BEGIN:VCALENDAR
VERSION:2.0
PRODID:-//Bettys Breast Cancer Fundation - ECPv6.15.20//NONSGML v1.0//EN
CALSCALE:GREGORIAN
METHOD:PUBLISH
X-WR-CALNAME:Bettys Breast Cancer Fundation
X-ORIGINAL-URL:https://bettysbreastcancerfoundation.org
X-WR-CALDESC:Events for Bettys Breast Cancer Fundation
REFRESH-INTERVAL;VALUE=DURATION:PT1H
X-Robots-Tag:noindex
X-PUBLISHED-TTL:PT1H
BEGIN:VTIMEZONE
TZID:UTC
BEGIN:STANDARD
TZOFFSETFROM:+0000
TZOFFSETTO:+0000
TZNAME:UTC
DTSTART:20230101T000000
END:STANDARD
END:VTIMEZONE
BEGIN:VEVENT
DTSTART;TZID=UTC:20251004T090000
DTEND;TZID=UTC:20251004T110000
DTSTAMP:20260419T161005
CREATED:20250504T200624Z
LAST-MODIFIED:20250504T202205Z
UID:15406-1759568400-1759575600@bettysbreastcancerfoundation.org
SUMMARY:Step Into Hope: Walking in Pink 2025!
DESCRIPTION:« All Events\n 				\n				\n				\n				\n					\n	Step Into Hope: Walking in Pink 2025!				\n				\n				\n				\n					\n		\n			October 4\n\n	\n\n	 @ \n\n\n9:00 am\n\n		\n\n\n\n	\n	 - \n\n11:00 am\n\n\n\n	\n				\n				\n				\n				\n					\n	\n				\n				\n				\n				\n									Picture a vibrant sea of pink\, radiating strength\, unity\, and hope. That’s the spirit of Walking in Pink—a movement that goes beyond steps to honor survivors\, remember loved ones\, and fuel the fight against  breast cancer. \nWith every stride\, you’ll be:  \n Celebrating Warriors –  \nStand beside incredible survivors and cheer on their resilience.  \n Honoring Angels –  \nKeep the memory of those we’ve lost alive in a walk filled with love and remembrance.  \n Empowering the Future – Every step contributes to research\, awareness\, and prevention\, shaping a future free from breast cancer. \n \nWalking in Pink 2025 is more than a walk—it’s a celebration of strength\, community\, and progress. Share your story\, connect with fellow supporters\,  and be part of a movement that truly makes a difference. \nLet’s come together to paint the town pink with purpose! Because each step we take brings us closer to  a future of hope and victory. \nJoin us in Walking in Pink 2025! 🌷 \n \n \n\n		\n\n	\n	\n\n	\n		Eisenhower Park\n	\n\n	\n						\n				\n\nEast Meadow\, Nassau County NY Field #5\n	\n		\n		New York\,\n\n	Victoria\n\n	11554\n\n	United States\n\n\n\n							\n		\n					+1-(516) 444 8752\n		\n					View Venue Website\n			\n	\n	\n	\n\n	\n		Add Button Text	\n\n	\n		\n			\n				\n					\n						\n	\n	\n\n						\n							Add to calendar						\n						\n	\n\n					\n					\n						\n															\n									\n										Google Calendar									\n								\n															\n									\n										iCalendar									\n								\n															\n									\n										Outlook 365									\n								\n															\n									\n										Outlook Live									\n								\n													\n					\n				\n			\n		\n	\n\n 								\n				\n					\n				\n		\n					\n		\n				\n				\n					\n	\n	Website:	\n	Buy Tickets Now: ..........https://shorturl.at/wwLXq\n\n				\n				\n				\n				\n					\n	\n	Venue			\n				\n	\n	Eisenhower Park\n	\n	\n\nEast Meadow\, Nassau County NY Field #5\n	\n		\n		New York\,\n\n	Victoria\n\n	11554\n\n	United States\n\n\n\n\n	+ Google Map \n\n\n	\n					\n			+1-(516) 444 8752			\n	 \n\n\n	\n	View Venue Website \n\n\n\n	\n\n\n\n		\n	\n				\n				\n				\n		\n				\n				\n					\n	\n	Organizer\n	Betty’s Breast Cancer Foundation\n	\n	\n\n	Phone:\n					\n			+1-(516) 444 8752			\n	 \n\n\n	\n	Email:\n					\n			bettysbreastcancerfoundationc@gmail.com
URL:https://bettysbreastcancerfoundation.org/event/step-into-hope-walking-in-pink-2025-2/
LOCATION:Eisenhower Park\, East Meadow\, Nassau County NY Field #5\, New York\, Victoria\, 11554\, United States
CATEGORIES:March
ATTACH;FMTTYPE=image/jpeg:https://bettysbreastcancerfoundation.org/wp-content/uploads/2025/05/GOPR2232-scaled.jpg
ORGANIZER;CN="Betty%E2%80%99s Breast Cancer Foundation":MAILTO:bettysbreastcancerfoundationc@gmail.com
END:VEVENT
BEGIN:VEVENT
DTSTART;TZID=UTC:20241005T080000
DTEND;TZID=UTC:20241005T110000
DTSTAMP:20260419T161006
CREATED:20240830T162556Z
LAST-MODIFIED:20240910T200105Z
UID:15341-1728115200-1728126000@bettysbreastcancerfoundation.org
SUMMARY:Buy your tickets here! for Walking Life in Pink organized by BBCF
DESCRIPTION:« All Events\n 				\n				\n				\n				\n					\n	Step Into Hope: Walking in Pink 2025!				\n				\n				\n				\n					\n		\n			October 4\n\n	\n\n	 @ \n\n\n9:00 am\n\n		\n\n\n\n	\n	 - \n\n11:00 am\n\n\n\n	\n				\n				\n				\n				\n					\n	\n				\n				\n				\n				\n									Picture a vibrant sea of pink\, radiating strength\, unity\, and hope. That’s the spirit of Walking in Pink—a movement that goes beyond steps to honor survivors\, remember loved ones\, and fuel the fight against  breast cancer. \nWith every stride\, you’ll be:  \n Celebrating Warriors –  \nStand beside incredible survivors and cheer on their resilience.  \n Honoring Angels –  \nKeep the memory of those we’ve lost alive in a walk filled with love and remembrance.  \n Empowering the Future – Every step contributes to research\, awareness\, and prevention\, shaping a future free from breast cancer. \n \nWalking in Pink 2025 is more than a walk—it’s a celebration of strength\, community\, and progress. Share your story\, connect with fellow supporters\,  and be part of a movement that truly makes a difference. \nLet’s come together to paint the town pink with purpose! Because each step we take brings us closer to  a future of hope and victory. \nJoin us in Walking in Pink 2025! 🌷 \n \n \n\n		\n\n	\n	\n\n	\n		Eisenhower Park\n	\n\n	\n						\n				\n\nEast Meadow\, Nassau County NY Field #5\n	\n		\n		New York\,\n\n	Victoria\n\n	11554\n\n	United States\n\n\n\n							\n		\n					+1-(516) 444 8752\n		\n					View Venue Website\n			\n	\n	\n	\n\n	\n		Add Button Text	\n\n	\n		\n			\n				\n					\n						\n	\n	\n\n						\n							Add to calendar						\n						\n	\n\n					\n					\n						\n															\n									\n										Google Calendar									\n								\n															\n									\n										iCalendar									\n								\n															\n									\n										Outlook 365									\n								\n															\n									\n										Outlook Live									\n								\n													\n					\n				\n			\n		\n	\n\n 								\n				\n					\n				\n		\n					\n		\n				\n				\n					\n	\n	Website:	\n	Buy Tickets Now: ..........https://shorturl.at/wwLXq\n\n				\n				\n				\n				\n					\n	\n	Venue			\n				\n	\n	Eisenhower Park\n	\n	\n\nEast Meadow\, Nassau County NY Field #5\n	\n		\n		New York\,\n\n	Victoria\n\n	11554\n\n	United States\n\n\n\n\n	+ Google Map \n\n\n	\n					\n			+1-(516) 444 8752			\n	 \n\n\n	\n	View Venue Website \n\n\n\n	\n\n\n\n		\n	\n				\n				\n				\n		\n				\n				\n					\n	\n	Organizer\n	Betty’s Breast Cancer Foundation\n	\n	\n\n	Phone:\n					\n			+1-(516) 444 8752			\n	 \n\n\n	\n	Email:\n					\n			bettysbreastcancerfoundationc@gmail.com
URL:https://bettysbreastcancerfoundation.org/event/https-www-eventbrite-com-e-walking-life-in-pink-hosted-by-bbcf-tickets-919465555227affebdsshcopyurlutm-campaignsocialutm-contentattendeeshareutm-mediumdiscoveryutm-termutm-share-sourcemobile-search-re/
ATTACH;FMTTYPE=image/jpeg:https://bettysbreastcancerfoundation.org/wp-content/uploads/2024/06/386375080_10161871246435809_7780509004720782835_n.jpg
ORGANIZER;CN="Betty%E2%80%99s Breast Cancer Foundation":MAILTO:bettysbreastcancerfoundationc@gmail.com
END:VEVENT
BEGIN:VEVENT
DTSTART;TZID=UTC:20241005T080000
DTEND;TZID=UTC:20241005T110000
DTSTAMP:20260419T161006
CREATED:20170425T101855Z
LAST-MODIFIED:20240910T194657Z
UID:782-1728115200-1728126000@bettysbreastcancerfoundation.org
SUMMARY:WALKING LIFE IN PINK -
DESCRIPTION:« All Events\n 				\n				\n				\n				\n					\n	Step Into Hope: Walking in Pink 2025!				\n				\n				\n				\n					\n		\n			October 4\n\n	\n\n	 @ \n\n\n9:00 am\n\n		\n\n\n\n	\n	 - \n\n11:00 am\n\n\n\n	\n				\n				\n				\n				\n					\n	\n				\n				\n				\n				\n									Picture a vibrant sea of pink\, radiating strength\, unity\, and hope. That’s the spirit of Walking in Pink—a movement that goes beyond steps to honor survivors\, remember loved ones\, and fuel the fight against  breast cancer. \nWith every stride\, you’ll be:  \n Celebrating Warriors –  \nStand beside incredible survivors and cheer on their resilience.  \n Honoring Angels –  \nKeep the memory of those we’ve lost alive in a walk filled with love and remembrance.  \n Empowering the Future – Every step contributes to research\, awareness\, and prevention\, shaping a future free from breast cancer. \n \nWalking in Pink 2025 is more than a walk—it’s a celebration of strength\, community\, and progress. Share your story\, connect with fellow supporters\,  and be part of a movement that truly makes a difference. \nLet’s come together to paint the town pink with purpose! Because each step we take brings us closer to  a future of hope and victory. \nJoin us in Walking in Pink 2025! 🌷 \n \n \n\n		\n\n	\n	\n\n	\n		Eisenhower Park\n	\n\n	\n						\n				\n\nEast Meadow\, Nassau County NY Field #5\n	\n		\n		New York\,\n\n	Victoria\n\n	11554\n\n	United States\n\n\n\n							\n		\n					+1-(516) 444 8752\n		\n					View Venue Website\n			\n	\n	\n	\n\n	\n		Add Button Text	\n\n	\n		\n			\n				\n					\n						\n	\n	\n\n						\n							Add to calendar						\n						\n	\n\n					\n					\n						\n															\n									\n										Google Calendar									\n								\n															\n									\n										iCalendar									\n								\n															\n									\n										Outlook 365									\n								\n															\n									\n										Outlook Live									\n								\n													\n					\n				\n			\n		\n	\n\n 								\n				\n					\n				\n		\n					\n		\n				\n				\n					\n	\n	Website:	\n	Buy Tickets Now: ..........https://shorturl.at/wwLXq\n\n				\n				\n				\n				\n					\n	\n	Venue			\n				\n	\n	Eisenhower Park\n	\n	\n\nEast Meadow\, Nassau County NY Field #5\n	\n		\n		New York\,\n\n	Victoria\n\n	11554\n\n	United States\n\n\n\n\n	+ Google Map \n\n\n	\n					\n			+1-(516) 444 8752			\n	 \n\n\n	\n	View Venue Website \n\n\n\n	\n\n\n\n		\n	\n				\n				\n				\n		\n				\n				\n					\n	\n	Organizer\n	Betty’s Breast Cancer Foundation\n	\n	\n\n	Phone:\n					\n			+1-(516) 444 8752			\n	 \n\n\n	\n	Email:\n					\n			bettysbreastcancerfoundationc@gmail.com
URL:https://bettysbreastcancerfoundation.org/event/walking-life-in-pink/
LOCATION:Eisenhower Park\, East Meadow\, Nassau County NY Field #5\, New York\, Victoria\, 11554\, United States
CATEGORIES:March
ATTACH;FMTTYPE=image/jpeg:https://bettysbreastcancerfoundation.org/wp-content/uploads/2017/04/betty-caminata.jpg
ORGANIZER;CN="Betty%E2%80%99s Breast Cancer Foundation":MAILTO:bettysbreastcancerfoundationc@gmail.com
END:VEVENT
END:VCALENDAR